BEGIN:VCALENDAR
VERSION:2.0
PRODID:-//wp-events-plugin.com//7.2.3.1//EN
TZID:Europe/Berlin
X-WR-TIMEZONE:Europe/Berlin
BEGIN:VEVENT
UID:547@solidarischinaulendorf.de
DTSTART;TZID=Europe/Berlin:20240409T140000
DTEND;TZID=Europe/Berlin:20240409T140000
DTSTAMP:20240409T132419Z
URL:https://solidarischinaulendorf.de/events/aquarell-und-mehr-mit-dem-sta
 dtseniorenrat/
SUMMARY:Aquarell und mehr mit dem Stadtseniorenrat
DESCRIPTION:im Hofgartentreff
CATEGORIES:Geselliges Aulendorf
END:VEVENT
BEGIN:VTIMEZONE
TZID:Europe/Berlin
X-LIC-LOCATION:Europe/Berlin
BEGIN:DAYLIGHT
DTSTART:20240331T030000
TZOFFSETFROM:+0100
TZOFFSETTO:+0200
TZNAME:CEST
END:DAYLIGHT
END:VTIMEZONE
END:VCALENDAR