BEGIN:VCALENDAR
VERSION:2.0
PRODID:-//wp-events-plugin.com//7.2.3.1//EN
TZID:Europe/Berlin
X-WR-TIMEZONE:Europe/Berlin
BEGIN:VEVENT
UID:1755@solidarischinaulendorf.de
DTSTART;TZID=Europe/Berlin:20261105T090000
DTEND;TZID=Europe/Berlin:20261105T120000
DTSTAMP:20260131T125507Z
URL:https://solidarischinaulendorf.de/events/aussensprechstunde-pflegestue
 tzpunkt-landkreis-ravensburg-2-2026-11-05/
SUMMARY:Außensprechstunde - Pflegestützpunkt Landkreis Ravensburg
DESCRIPTION:Kostenfreie Außensprechstunde des Pflegestützpunktes des Land
 kreises Ravensburg.\nEine vorhergehende Terminvereinbarung ist nicht erfor
 derlich\, kann aber auch direkt im PVN gemacht werden.\n\nDas Angebot rich
 tet sich an pflegebedürftige sowie chronisch kranke Menschen aller Alters
 gruppen\, deren Angehörige\, sonstige Bezugspersonen und alle interessier
 te Bürgerinnen und Bürger.\n\nBeratungen finden zu allen Themen rund um 
 Pflege\, medizinische Versorgung und Sozialleistungen statt.\nBei Beadrf w
 ird Unterstützung bei der Beantragung von Leistungen und Organisation von
  Angeboten und Hilfen geleistet.\n\nDie Beratung ist kostenfrei\, neutral 
 und unabhängig. Die Schweigepflicht wird selbstverständlich immer beacht
 et.\nDie Beratung kann in den Außensprechstungen\, telefonisch oder bei I
 hnen zu Hause erfolgen.\n\nAnsprechpartnerin:\nSandra Göttel\, Tel.: 0752
 4/9748-3317\ns.goettel@rv.de
ATTACH;FMTTYPE=image/jpeg:https://solidarischinaulendorf.de/wp-content/upl
 oads/2024/12/service-1019821_1280.jpg
CATEGORIES:PVN - Gesundes Aulendorf,Sorgendes Aulendorf
LOCATION:PVN-Gesundes Aulendorf\, Hauptstraße 50\, Aulendorf\, Deutschland
X-APPLE-STRUCTURED-LOCATION;VALUE=URI;X-ADDRESS=Hauptstraße 50\, Aulendorf
 \, Deutschland;X-APPLE-RADIUS=100;X-TITLE=PVN-Gesundes Aulendorf:geo:0,0
END:VEVENT
BEGIN:VTIMEZONE
TZID:Europe/Berlin
X-LIC-LOCATION:Europe/Berlin
BEGIN:STANDARD
DTSTART:20261025T020000
TZOFFSETFROM:+0200
TZOFFSETTO:+0100
TZNAME:CET
END:STANDARD
END:VTIMEZONE
END:VCALENDAR