BEGIN:VCALENDAR
VERSION:2.0
PRODID:-//wp-events-plugin.com//7.2.3.1//EN
TZID:Europe/Berlin
X-WR-TIMEZONE:Europe/Berlin
BEGIN:VEVENT
UID:1758@solidarischinaulendorf.de
DTSTART;TZID=Europe/Berlin:20260323T180000
DTEND;TZID=Europe/Berlin:20260323T200000
DTSTAMP:20260204T145510Z
URL:https://solidarischinaulendorf.de/events/e-bike-welches-rad-passt-zu-m
 ir/
SUMMARY:E-Bike     welches Rad passt zu mir?
DESCRIPTION:Nutzung - Technik - Auswahl\n\nErfahrene E-Bike-Nutzer informie
 ren aus der Praxis und geben wertvolle Tipps\, worauf es wirklich ankommt.
ATTACH;FMTTYPE=image/jpeg:https://solidarischinaulendorf.de/wp-content/upl
 oads/2025/06/e-bike-635563_1920.jpg
CATEGORIES:PVN - Gesundes Aulendorf,Sorgendes Aulendorf
LOCATION:PVN-Gesundes Aulendorf\, Hauptstraße 50\, Aulendorf\, Deutschland
X-APPLE-STRUCTURED-LOCATION;VALUE=URI;X-ADDRESS=Hauptstraße 50\, Aulendorf
 \, Deutschland;X-APPLE-RADIUS=100;X-TITLE=PVN-Gesundes Aulendorf:geo:0,0
END:VEVENT
BEGIN:VTIMEZONE
TZID:Europe/Berlin
X-LIC-LOCATION:Europe/Berlin
BEGIN:STANDARD
DTSTART:20251026T020000
TZOFFSETFROM:+0200
TZOFFSETTO:+0100
TZNAME:CET
END:STANDARD
END:VTIMEZONE
END:VCALENDAR