BEGIN:VCALENDAR
VERSION:2.0
PRODID:-//wp-events-plugin.com//7.2.3.1//EN
TZID:Europe/Berlin
X-WR-TIMEZONE:Europe/Berlin
BEGIN:VEVENT
UID:1722@solidarischinaulendorf.de
DTSTART;TZID=Europe/Berlin:20260108T120000
DTEND;TZID=Europe/Berlin:20260108T130000
DTSTAMP:20260119T144317Z
URL:https://solidarischinaulendorf.de/events/offener-mittagstisch-2026-01-
 08/
SUMMARY:Offener Mittagstisch
DESCRIPTION:... etwas Warmes für Leib und Seele...\nDie katholische Kirche
 ngemeinde St. Martin Aulendorf lädt ab 17.10.2024 bis 27. März 2025\njew
 eils donnerstags von 12.00 bis 13.00 Uhr\nin das katholischen Gemeindehaus
  ein zum \n"offenen Mittagstisch Aulendorf".\nJeder\, der sich darüber fr
 eut\, einmal in der Woche ein 3-gängiges Menü zu genießen und jene\, di
 e einmal in der Woche Gesellschaft suchen\, sind herzlich eingeladen.\n\nF
 risch gekocht - für Sie.\n\nWer kann\, soll sich an den Kosten beteiligen
 \, wer das nicht kann\, ist trotzdem eingeladen.\nDas ehrenamtliche Betreu
 ungsteam freut sich auf Ihr Kommen.
ATTACH;FMTTYPE=image/jpeg:https://solidarischinaulendorf.de/wp-content/upl
 oads/2024/10/Screenshot-2024-10-27-113556.png
CATEGORIES:Sorgendes Aulendorf
LOCATION:Katholisches Gemeindehaus\,  Kolpingstraße 4\, Aulendorf\, 88326\
 , Deutschland
X-APPLE-STRUCTURED-LOCATION;VALUE=URI;X-ADDRESS= Kolpingstraße 4\, Aulendo
 rf\, 88326\, Deutschland;X-APPLE-RADIUS=100;X-TITLE=Katholisches Gemeindeh
 aus:geo:0,0
END:VEVENT
BEGIN:VTIMEZONE
TZID:Europe/Berlin
X-LIC-LOCATION:Europe/Berlin
BEGIN:STANDARD
DTSTART:20251026T020000
TZOFFSETFROM:+0200
TZOFFSETTO:+0100
TZNAME:CET
END:STANDARD
END:VTIMEZONE
END:VCALENDAR