BEGIN:VCALENDAR
VERSION:2.0
PRODID:-//wp-events-plugin.com//7.2.3.1//EN
TZID:Europe/Berlin
X-WR-TIMEZONE:Europe/Berlin
BEGIN:VEVENT
UID:1660@solidarischinaulendorf.de
DTSTART;TZID=Europe/Berlin:20260314T093000
DTEND;TZID=Europe/Berlin:20260314T123000
DTSTAMP:20260303T112537Z
URL:https://solidarischinaulendorf.de/events/reparatur-cafe-3-2026-03-14/
SUMMARY:Reparatur-Café
DESCRIPTION:Spitalweg 20 (ehem. Schalmeienheim)
ATTACH;FMTTYPE=image/jpeg:https://solidarischinaulendorf.de/wp-content/upl
 oads/2024/04/blaz-erzetic-rP30_20fDpw-unsplash-scaled.jpg
CATEGORIES:Reparatur-Café,Sorgendes Aulendorf
LOCATION:Reparatur-Café\, Spitalweg 20 (ehem. Schalmeienheim)\, Aulendorf\
 , 88326\, Deutschland
X-APPLE-STRUCTURED-LOCATION;VALUE=URI;X-ADDRESS=Spitalweg 20 (ehem. Schalme
 ienheim)\, Aulendorf\, 88326\, Deutschland;X-APPLE-RADIUS=100;X-TITLE=Repa
 ratur-Café:geo:0,0
END:VEVENT
BEGIN:VTIMEZONE
TZID:Europe/Berlin
X-LIC-LOCATION:Europe/Berlin
BEGIN:STANDARD
DTSTART:20251026T020000
TZOFFSETFROM:+0200
TZOFFSETTO:+0100
TZNAME:CET
END:STANDARD
END:VTIMEZONE
END:VCALENDAR