BEGIN:VCALENDAR
VERSION:2.0
PRODID:-//wp-events-plugin.com//7.2.3.1//EN
TZID:Europe/Berlin
X-WR-TIMEZONE:Europe/Berlin
BEGIN:VEVENT
UID:1621@solidarischinaulendorf.de
DTSTART;TZID=Europe/Berlin:20251210T140000
DTEND;TZID=Europe/Berlin:20251210T153000
DTSTAMP:20251203T084602Z
URL:https://solidarischinaulendorf.de/events/unterstuetzung-helfen-teilen-
 funktion-aulendorf-app/
SUMMARY:Unterstützung bei der Helfen/Teilen Funktion in der Aulendorf APP
DESCRIPTION:Nutzen Sie die Chance! Das Digital-Team unterstützt Sie dabei\
 , von den vielfältigen Möglichkeiten der Aulendorf APP zu profitieren un
 d aktiv an der digitalen Nachbarschaftshilfe teilzunehmen.\n\nSpeziell fü
 r den neuen Helfen/Teilen Bereich gibt es folgende Beratungstermine:\n\nMi
 ttwoch\, 10.12.2025        14:00 – 15:30 Uhr\n\nMittwoch\, 17.12.
 2025        16:00 – 17:30 Uhr\n\nAnmeldung erforderlich:\n\nE-Mai
 l: kontakt@solidarischinaulendorf.de\n\nTel. 0174-7705267 oder 0177-675897
 0
CATEGORIES:Digitale Alltagshilfe,Sorgendes Aulendorf
LOCATION:PVN-Gesundes Aulendorf\, Hauptstraße 50\, Aulendorf\, Deutschland
X-APPLE-STRUCTURED-LOCATION;VALUE=URI;X-ADDRESS=Hauptstraße 50\, Aulendorf
 \, Deutschland;X-APPLE-RADIUS=100;X-TITLE=PVN-Gesundes Aulendorf:geo:0,0
END:VEVENT
BEGIN:VTIMEZONE
TZID:Europe/Berlin
X-LIC-LOCATION:Europe/Berlin
BEGIN:STANDARD
DTSTART:20251026T020000
TZOFFSETFROM:+0200
TZOFFSETTO:+0100
TZNAME:CET
END:STANDARD
END:VTIMEZONE
END:VCALENDAR