BEGIN:VCALENDAR
VERSION:2.0
PRODID:-//wp-events-plugin.com//7.2.3.1//EN
TZID:Europe/Berlin
X-WR-TIMEZONE:Europe/Berlin
BEGIN:VEVENT
UID:703@solidarischinaulendorf.de
DTSTART;TZID=Europe/Berlin:20241023T180000
DTEND;TZID=Europe/Berlin:20241023T193000
DTSTAMP:20240925T183044Z
URL:https://solidarischinaulendorf.de/events/vortrag-das-gesundheitskonzep
 t-nach-kneipp-investition-in-die-zukunft/
SUMMARY:Vortrag - Das Gesundheitskonzept nach Kneipp - Investition in die Z
 ukunft
DESCRIPTION:Referent: Dr. med. H.-G. Eisenlauer\, Facharzt für Physikalisc
 he und Rehabilitative Medizin\, Facharzt für Orthopädie\n\nDie Teilnahme
  ist kostenlos möglich.
CATEGORIES:PVN - Gesundes Aulendorf
LOCATION:PVN-Gesundes Aulendorf\, Hauptstraße 50\, Aulendorf\, Deutschland
X-APPLE-STRUCTURED-LOCATION;VALUE=URI;X-ADDRESS=Hauptstraße 50\, Aulendorf
 \, Deutschland;X-APPLE-RADIUS=100;X-TITLE=PVN-Gesundes Aulendorf:geo:0,0
END:VEVENT
BEGIN:VTIMEZONE
TZID:Europe/Berlin
X-LIC-LOCATION:Europe/Berlin
BEGIN:DAYLIGHT
DTSTART:20240331T030000
TZOFFSETFROM:+0100
TZOFFSETTO:+0200
TZNAME:CEST
END:DAYLIGHT
END:VTIMEZONE
END:VCALENDAR