BEGIN:VCALENDAR
VERSION:2.0
PRODID:-//wp-events-plugin.com//7.2.3.1//EN
TZID:Europe/Berlin
X-WR-TIMEZONE:Europe/Berlin
BEGIN:VEVENT
UID:1823@solidarischinaulendorf.de
DTSTART;TZID=Europe/Berlin:20260126T140000
DTEND;TZID=Europe/Berlin:20260126T160000
DTSTAMP:20260122T140655Z
URL:https://solidarischinaulendorf.de/events/workshop-im-naehcafe-schluess
 eltasche-am-montag-26-januar-14-16-uhr/
SUMMARY:Workshop im Nähcafé - Schlüsseltasche am Montag\, 26. Januar 14-
 16 Uhr
DESCRIPTION:Wir nähen kleine\, praktische &amp\; schöne Taschen für Dein
 e Schlüssel.\n\n&nbsp\;\n\nWorkshop_2026_01_26_Schluesselanhaenger
ATTACH;FMTTYPE=image/jpeg:https://solidarischinaulendorf.de/wp-content/upl
 oads/2026/01/Schluesselanhaenger_Naehcafe-scaled.jpg
CATEGORIES:Nähcafé,Sorgendes Aulendorf
END:VEVENT
BEGIN:VTIMEZONE
TZID:Europe/Berlin
X-LIC-LOCATION:Europe/Berlin
BEGIN:STANDARD
DTSTART:20251026T020000
TZOFFSETFROM:+0200
TZOFFSETTO:+0100
TZNAME:CET
END:STANDARD
END:VTIMEZONE
END:VCALENDAR